BEGIN:VCALENDAR
VERSION:2.0
PRODID:-//hacksw/handcal//NONSGML v1.0//EN
BEGIN:VEVENT
SUMMARY:GRABELS VS PN F
UID:6c4b0807-ac46-46f0-b81b-85bdb0824827
DTSTART:20260314T173000Z
DTEND:20260314T230000Z
LOCATION:Localisation   
CATEGORIES:Sportif
STATUS:
URL;VALUE=URI:https://latteshandball.sportsregions.fr/evenements/2026/03/14/grabels-vs-pn-f-2427865
END:VEVENT
END:VCALENDAR
