BEGIN:VCALENDAR
VERSION:2.0
PRODID:-//hacksw/handcal//NONSGML v1.0//EN
BEGIN:VEVENT
SUMMARY:JACOU VS TER M2
UID:408e0a25-ea27-490c-9380-5851103ad02d
DTSTART:20260314T180000Z
DTEND:20260314T230000Z
LOCATION:Localisation   
CATEGORIES:Sportif
STATUS:
URL;VALUE=URI:https://latteshandball.sportsregions.fr/evenements/2026/03/14/jacou-vs-ter-m2-2433239
END:VEVENT
END:VCALENDAR
