BEGIN:VCALENDAR
VERSION:2.0
PRODID:-//hacksw/handcal//NONSGML v1.0//EN
BEGIN:VEVENT
SUMMARY:LA VENE VS -18 M
UID:da975838-3e42-4b1e-8752-05468090a216
DTSTART:20260314T153000Z
DTEND:20260314T230000Z
LOCATION:Localisation   
CATEGORIES:Sportif
STATUS:
URL;VALUE=URI:https://latteshandball.sportsregions.fr/evenements/2026/03/14/la-vene-vs-18-m-2427867
END:VEVENT
END:VCALENDAR
