BEGIN:VCALENDAR
VERSION:2.0
PRODID:-//hacksw/handcal//NONSGML v1.0//EN
BEGIN:VEVENT
SUMMARY:LANSARGUES VS -11 M2
UID:b294cd5c-09d7-422c-b170-92c4eadd4372
DTSTART:20260314T124500Z
DTEND:20260314T230000Z
LOCATION:Localisation   
CATEGORIES:Sportif
STATUS:
URL;VALUE=URI:https://latteshandball.sportsregions.fr/evenements/2026/03/14/lansargues-vs-11-m2-2427868
END:VEVENT
END:VCALENDAR
