BEGIN:VCALENDAR
VERSION:2.0
PRODID:-//hacksw/handcal//NONSGML v1.0//EN
BEGIN:VEVENT
SUMMARY:SOMMIERES VS TER M1
UID:b6688e81-ffde-4b69-a2a7-3f9cc9f39c4b
DTSTART:20260314T180000Z
DTEND:20260314T230000Z
LOCATION:Localisation   
CATEGORIES:Sportif
STATUS:
URL;VALUE=URI:https://latteshandball.sportsregions.fr/evenements/2026/03/14/sommieres-vs-ter-m1-2427864
END:VEVENT
END:VCALENDAR
