BEGIN:VCALENDAR
VERSION:2.0
PRODID:-//hacksw/handcal//NONSGML v1.0//EN
BEGIN:VEVENT
SUMMARY:CLERMONT VS -11 F
UID:52ac21c6-3b2e-4fac-b673-0b5a15ed891f
DTSTART:20260315T110000Z
DTEND:20260315T230000Z
LOCATION:Localisation   
CATEGORIES:Sportif
STATUS:
URL;VALUE=URI:https://latteshandball.sportsregions.fr/evenements/2026/03/15/clermont-vs-11-f-2428636
END:VEVENT
END:VCALENDAR
