BEGIN:VCALENDAR
VERSION:2.0
PRODID:-//hacksw/handcal//NONSGML v1.0//EN
BEGIN:VEVENT
SUMMARY:GRABELS VS TER M2
UID:32f70e32-e5ec-4b6c-a29c-73e8075990b0
DTSTART:20260321T193000Z
DTEND:20260321T230000Z
LOCATION:Localisation   
CATEGORIES:Sportif
STATUS:
URL;VALUE=URI:https://latteshandball.sportsregions.fr/evenements/2026/03/21/grabels-vs-ter-m2-2430942
END:VEVENT
END:VCALENDAR
