BEGIN:VCALENDAR
VERSION:2.0
PRODID:-//hacksw/handcal//NONSGML v1.0//EN
BEGIN:VEVENT
SUMMARY:JACOU VS N3 F
UID:ecb5ec0a-1154-41d1-89d0-0e25ba5fbd3e
DTSTART:20260321T200000Z
DTEND:20260321T230000Z
LOCATION:Localisation   
CATEGORIES:Sportif
STATUS:
URL;VALUE=URI:https://latteshandball.sportsregions.fr/evenements/2026/03/21/jacou-vs-n3-f-2430940
END:VEVENT
END:VCALENDAR
