BEGIN:VCALENDAR
VERSION:2.0
PRODID:-//hacksw/handcal//NONSGML v1.0//EN
BEGIN:VEVENT
SUMMARY:TEYRAN VS -11 F
UID:5cf0d42d-c43b-4c07-9565-fb2d092d8144
DTSTART:20260321T123000Z
DTEND:20260321T230000Z
LOCATION:Localisation   
CATEGORIES:Sportif
STATUS:
URL;VALUE=URI:https://latteshandball.sportsregions.fr/evenements/2026/03/21/teyran-vs-11-f-2430947
END:VEVENT
END:VCALENDAR
