BEGIN:VCALENDAR
VERSION:2.0
PRODID:-//hacksw/handcal//NONSGML v1.0//EN
BEGIN:VEVENT
SUMMARY:-11 F VS JACOU
UID:bc589ad3-d23d-4140-8b8a-997c299bfbab
DTSTART:20260328T160000Z
DTEND:20260328T230000Z
LOCATION:Localisation   
CATEGORIES:Sportif
STATUS:
URL;VALUE=URI:https://latteshandball.sportsregions.fr/evenements/2026/03/28/11-f-vs-jacou-2433713
END:VEVENT
END:VCALENDAR
