BEGIN:VCALENDAR
VERSION:2.0
PRODID:-//hacksw/handcal//NONSGML v1.0//EN
BEGIN:VEVENT
SUMMARY:MHB 2 VS -13 M1
UID:0d326f48-d41c-44af-afa8-f3b9bd74d352
DTSTART:20260328T130000Z
DTEND:20260328T230000Z
LOCATION:Localisation   
CATEGORIES:Sportif
STATUS:
URL;VALUE=URI:https://latteshandball.sportsregions.fr/evenements/2026/03/28/mhb-2-vs-13-m1-2433718
END:VEVENT
END:VCALENDAR
