BEGIN:VCALENDAR
VERSION:2.0
PRODID:-//hacksw/handcal//NONSGML v1.0//EN
BEGIN:VEVENT
SUMMARY:PN F VS MUC
UID:bc95927d-78ba-45da-9ee7-cc81457ff275
DTSTART:20260328T180000Z
DTEND:20260328T230000Z
LOCATION:Localisation   
CATEGORIES:Sportif
STATUS:
URL;VALUE=URI:https://latteshandball.sportsregions.fr/evenements/2026/03/28/pn-f-vs-muc-2433701
END:VEVENT
END:VCALENDAR
