BEGIN:VCALENDAR
VERSION:2.0
PRODID:-//hacksw/handcal//NONSGML v1.0//EN
BEGIN:VEVENT
SUMMARY:-11 M2 VS BEZIERS
UID:4b3b6d36-5faa-42b1-8968-50dd62d6bbea
DTSTART:20260329T080000Z
DTEND:20260329T230000Z
LOCATION:Localisation   
CATEGORIES:Sportif
STATUS:
URL;VALUE=URI:https://latteshandball.sportsregions.fr/evenements/2026/03/29/11-m2-vs-beziers-2433717
END:VEVENT
END:VCALENDAR
