BEGIN:VCALENDAR
VERSION:2.0
PRODID:-//hacksw/handcal//NONSGML v1.0//EN
BEGIN:VEVENT
SUMMARY:FRONTIGNAN VS -11 M1
UID:246feb63-ffec-4185-9a91-078e526ec58e
DTSTART:20260329T080000Z
DTEND:20260329T230000Z
LOCATION:Localisation   
CATEGORIES:Sportif
STATUS:
URL;VALUE=URI:https://latteshandball.sportsregions.fr/evenements/2026/03/29/frontignan-vs-11-m1-2433716
END:VEVENT
END:VCALENDAR
