BEGIN:VCALENDAR
VERSION:2.0
PRODID:-//hacksw/handcal//NONSGML v1.0//EN
BEGIN:VEVENT
SUMMARY:LUNEL VS -18 F
UID:54367288-0d58-4fd3-929b-caf7786ba86f
DTSTART:20260329T123000Z
DTEND:20260329T230000Z
LOCATION:Localisation   
CATEGORIES:Sportif
STATUS:
URL;VALUE=URI:https://latteshandball.sportsregions.fr/evenements/2026/03/29/lunel-vs-18-f-2433697
END:VEVENT
END:VCALENDAR
