BEGIN:VCALENDAR
VERSION:2.0
PRODID:-//hacksw/handcal//NONSGML v1.0//EN
BEGIN:VEVENT
SUMMARY:NIM'MARGUERITTES VS N3 F
UID:7f995022-1c71-4b59-9b04-7829fedda303
DTSTART:20260329T140000Z
DTEND:20260329T230000Z
LOCATION:Localisation   
CATEGORIES:Sportif
STATUS:
URL;VALUE=URI:https://latteshandball.sportsregions.fr/evenements/2026/03/29/nimmarguerittes-vs-n3-f-2433696
END:VEVENT
END:VCALENDAR
