BEGIN:VCALENDAR
VERSION:2.0
PRODID:-//hacksw/handcal//NONSGML v1.0//EN
BEGIN:VEVENT
SUMMARY:TER F VS BEZIERS
UID:f6da3584-e7b9-49b0-a324-f391a21fbe06
DTSTART:20260329T100000Z
DTEND:20260329T230000Z
LOCATION:Localisation   
CATEGORIES:Sportif
STATUS:
URL;VALUE=URI:https://latteshandball.sportsregions.fr/evenements/2026/03/29/ter-f-vs-beziers-2433702
END:VEVENT
END:VCALENDAR
