BEGIN:VCALENDAR
VERSION:2.0
PRODID:-//hacksw/handcal//NONSGML v1.0//EN
BEGIN:VEVENT
SUMMARY:TER F VS LE VENE
UID:333dcb16-e4b2-4e8c-8471-f44eb1fd94b5
DTSTART:20260329T140000Z
DTEND:20260329T230000Z
LOCATION:Localisation   
CATEGORIES:Sportif
STATUS:
URL;VALUE=URI:https://latteshandball.sportsregions.fr/evenements/2026/03/29/ter-f-vs-le-vene-2433711
END:VEVENT
END:VCALENDAR
