BEGIN:VCALENDAR
VERSION:2.0
PRODID:-//hacksw/handcal//NONSGML v1.0//EN
BEGIN:VEVENT
SUMMARY:ST GELY VS -13 F
UID:67b0cb52-294d-4170-b3fd-1619a47b90e6
DTSTART:20260405T080000Z
DTEND:20260405T220000Z
LOCATION:Localisation   
CATEGORIES:Sportif
STATUS:
URL;VALUE=URI:https://latteshandball.sportsregions.fr/evenements/2026/04/05/st-gely-vs-13-f-2435982
END:VEVENT
END:VCALENDAR
