BEGIN:VCALENDAR
VERSION:2.0
PRODID:-//hacksw/handcal//NONSGML v1.0//EN
BEGIN:VEVENT
SUMMARY:TER F VS JUVIGNAC
UID:17ed9fc1-a7ca-4e47-960f-26b06bc4a08d
DTSTART:20260405T140000Z
DTEND:20260405T220000Z
LOCATION:Localisation   
CATEGORIES:Sportif
STATUS:
URL;VALUE=URI:https://latteshandball.sportsregions.fr/evenements/2026/04/05/ter-f-vs-juvignac-2435981
END:VEVENT
END:VCALENDAR
