BEGIN:VCALENDAR
VERSION:2.0
PRODID:-//hacksw/handcal//NONSGML v1.0//EN
BEGIN:VEVENT
SUMMARY:-11 F VS MONTAGNAC
UID:807684fe-3c9d-4c45-b1ee-e88fe32f473c
DTSTART:20260411T130000Z
DTEND:20260411T220000Z
LOCATION:Localisation   
CATEGORIES:Sportif
STATUS:
URL;VALUE=URI:https://latteshandball.sportsregions.fr/evenements/2026/04/11/11-f-vs-montagnac-2440196
END:VEVENT
END:VCALENDAR
