BEGIN:VCALENDAR
VERSION:2.0
PRODID:-//hacksw/handcal//NONSGML v1.0//EN
BEGIN:VEVENT
SUMMARY:N3 F VS MENDE
UID:1e24a787-8fe5-49da-ae62-dc66be4fde70
DTSTART:20260411T190000Z
DTEND:20260411T220000Z
LOCATION:Localisation   
CATEGORIES:Sportif
STATUS:
URL;VALUE=URI:https://latteshandball.sportsregions.fr/evenements/2026/04/11/n3-f-vs-mende-2440190
END:VEVENT
END:VCALENDAR
