BEGIN:VCALENDAR
VERSION:2.0
PRODID:-//hacksw/handcal//NONSGML v1.0//EN
BEGIN:VEVENT
SUMMARY:TEYRAN VS -13 F
UID:aaa92762-d6d8-4da5-a6b1-cd476b2bb89b
DTSTART:20260412T090000Z
DTEND:20260412T220000Z
LOCATION:Localisation   
CATEGORIES:Sportif
STATUS:
URL;VALUE=URI:https://latteshandball.sportsregions.fr/evenements/2026/04/12/teyran-vs-13-f-2440662
END:VEVENT
END:VCALENDAR
