BEGIN:VCALENDAR
VERSION:2.0
PRODID:-//hacksw/handcal//NONSGML v1.0//EN
BEGIN:VEVENT
SUMMARY:TER M2 VS JACOU
UID:52ee7ad0-555f-4e6f-9b0c-d3aefb9c449a
DTSTART:20260418T180000Z
DTEND:20260418T220000Z
LOCATION:Localisation   
CATEGORIES:Sportif
STATUS:
URL;VALUE=URI:https://latteshandball.sportsregions.fr/evenements/2026/04/18/ter-m2-vs-jacou-2442447
END:VEVENT
END:VCALENDAR
